BEGIN:VCALENDAR
VERSION:2.0
PRODID:-//eventon.com NONSGML v1.0//EN
CALSCALE:GREGORIAN
METHOD:PUBLISH
BEGIN:VEVENT
UID:69e638053c2ca
DTSTAMP:20260420T142821Z
DTSTART:20260912T100000Z
DTEND:20260912T150000Z
LOCATION:Rösrath Hoffnungsthal
SUMMARY:Meditations Tools
DESCRIPTION:Safe the Date!\nhttps://lea-energiemedizin.de/events/meditation
 s-tools-2/
URL:https://lea-energiemedizin.de/events/meditations-tools-2/
END:VEVENT
END:VCALENDAR