BEGIN:VCALENDAR
VERSION:2.0
PRODID:-//eventon.com NONSGML v1.0//EN
CALSCALE:GREGORIAN
METHOD:PUBLISH
BEGIN:VEVENT
UID:69e5f28b1e707
DTSTAMP:20260420T093155Z
DTSTART:20250906T080000Z
DTEND:20251220T140000Z
LOCATION:Rösrath Hoffnungsthal
SUMMARY:Heilreise nach Inka Tradition
DESCRIPTION:Safe the Date!\nhttps://lea-energiemedizin.de/events/schamanisc
 hes-medizinrad-2025/
URL:https://lea-energiemedizin.de/events/schamanisches-medizinrad-2025/
END:VEVENT
END:VCALENDAR