BEGIN:VCALENDAR
VERSION:2.0
PRODID:-//eventon.com NONSGML v1.0//EN
CALSCALE:GREGORIAN
METHOD:PUBLISH
BEGIN:VEVENT
UID:69e6455a0a779
DTSTAMP:20260420T152514Z
DTSTART:20260425T100000Z
DTEND:20260425T150000Z
LOCATION:Rösrath Hoffnungsthal
SUMMARY:Meditations Tools
DESCRIPTION:Safe the Date!\nhttps://lea-energiemedizin.de/events/meditation
 s-tools-3/
URL:https://lea-energiemedizin.de/events/meditations-tools-3/
END:VEVENT
END:VCALENDAR