BEGIN:VCALENDAR
VERSION:2.0
PRODID:-//eventon.com NONSGML v1.0//EN
CALSCALE:GREGORIAN
METHOD:PUBLISH
BEGIN:VEVENT
UID:69e5f26509201
DTSTAMP:20260420T093117Z
DTSTART:20260607T080000Z
DTEND:20260607T120000Z
LOCATION:Rösrath Hoffnungsthal
SUMMARY:Tagesworkhop - Ausbildung
DESCRIPTION:Safe the Date!\nhttps://lea-energiemedizin.de/events/tagesworkh
 op-ausbildung-3/
URL:https://lea-energiemedizin.de/events/tagesworkhop-ausbildung-3/
END:VEVENT
END:VCALENDAR